BEGIN:VCALENDAR
VERSION:2.0
PRODID:-//EMSO - ECPv5.12.0//NONSGML v1.0//EN
CALSCALE:GREGORIAN
METHOD:PUBLISH
X-WR-CALNAME:EMSO
X-ORIGINAL-URL:https://emso.eu
X-WR-CALDESC:Events for EMSO
BEGIN:VTIMEZONE
TZID:Europe/Rome
BEGIN:DAYLIGHT
TZOFFSETFROM:+0100
TZOFFSETTO:+0200
TZNAME:CEST
DTSTART:20200329T010000
END:DAYLIGHT
BEGIN:STANDARD
TZOFFSETFROM:+0200
TZOFFSETTO:+0100
TZNAME:CET
DTSTART:20201025T010000
END:STANDARD
END:VTIMEZONE
BEGIN:VEVENT
DTSTART;VALUE=DATE:20200422
DTEND;VALUE=DATE:20200425
DTSTAMP:20260420T052203
CREATED:20200402T092129Z
LAST-MODIFIED:20200402T092129Z
UID:2485-1587513600-1587772799@emso.eu
SUMMARY:International Ocean Governance Forum
DESCRIPTION:The IOG Forum will provide a platform for actors\, stakeholders within and beyond Europe for interactive dialogue on ocean challenges and governance solutions in support of the follow-up and further development of the EU International Ocean Governance Agenda. \nVisit the event website here.
URL:https://emso.eu/event/international-ocean-governance-forum/
LOCATION:Brussels\, Brussels\, Belgium
END:VEVENT
END:VCALENDAR