BEGIN:VCALENDAR
VERSION:2.0
PRODID:-//EMSO - ECPv5.12.0//NONSGML v1.0//EN
CALSCALE:GREGORIAN
METHOD:PUBLISH
X-WR-CALNAME:EMSO
X-ORIGINAL-URL:https://emso.eu
X-WR-CALDESC:Events for EMSO
BEGIN:VTIMEZONE
TZID:Europe/Rome
BEGIN:DAYLIGHT
TZOFFSETFROM:+0100
TZOFFSETTO:+0200
TZNAME:CEST
DTSTART:20200329T010000
END:DAYLIGHT
BEGIN:STANDARD
TZOFFSETFROM:+0200
TZOFFSETTO:+0100
TZNAME:CET
DTSTART:20201025T010000
END:STANDARD
END:VTIMEZONE
BEGIN:VEVENT
DTSTART;VALUE=DATE:20200216
DTEND;VALUE=DATE:20200222
DTSTAMP:20260420T003549
CREATED:20190902T160232Z
LAST-MODIFIED:20190902T160232Z
UID:2193-1581811200-1582329599@emso.eu
SUMMARY:Ocean Sciences Meeting
DESCRIPTION:The Ocean Sciences Meeting (OSM) is the flagship conference for the ocean sciences and the larger ocean-connected community. As we approach the UN Decade of Ocean Science for Sustainable Development\, beginning in 2021\, it is increasingly important to gather as a scientific community to raise awareness of the truly global dimension of the ocean\, address environmental challenges\, and set forth on a path towards a resilient planet. \nInfo here.
URL:https://emso.eu/event/ocean-sciences-meeting/
LOCATION:San Diego\, San Diego\, CA\, United States
ATTACH;FMTTYPE=image/jpeg:https://emso.eu/wp-content/uploads/2019/09/Ocean-sciences-meeting-2020.jpg
END:VEVENT
END:VCALENDAR