BEGIN:VCALENDAR
VERSION:2.0
PRODID:-//EMSO - ECPv5.12.0//NONSGML v1.0//EN
CALSCALE:GREGORIAN
METHOD:PUBLISH
X-WR-CALNAME:EMSO
X-ORIGINAL-URL:https://emso.eu
X-WR-CALDESC:Events for EMSO
BEGIN:VTIMEZONE
TZID:Europe/Rome
BEGIN:DAYLIGHT
TZOFFSETFROM:+0100
TZOFFSETTO:+0200
TZNAME:CEST
DTSTART:20200329T010000
END:DAYLIGHT
BEGIN:STANDARD
TZOFFSETFROM:+0200
TZOFFSETTO:+0100
TZNAME:CET
DTSTART:20201025T010000
END:STANDARD
END:VTIMEZONE
BEGIN:VEVENT
DTSTART;VALUE=DATE:20200317
DTEND;VALUE=DATE:20200320
DTSTAMP:20260420T033220
CREATED:20190902T160744Z
LAST-MODIFIED:20190902T160744Z
UID:2197-1584403200-1584662399@emso.eu
SUMMARY:Oceanology International 2020
DESCRIPTION:The world’s largest ocean technology exhibition and conference. \nInfo here.
URL:https://emso.eu/event/oceanology-international-2020/
LOCATION:ExCel London\, Royal Victoria Dock\, 1 Western Gateway\, Royal Docks\,\, London\, E16 1XL\, United Kingdom
ATTACH;FMTTYPE=image/jpeg:https://emso.eu/wp-content/uploads/2019/09/Oi2020logo552x311px.jpg
END:VEVENT
END:VCALENDAR