BEGIN:VCALENDAR
VERSION:2.0
PRODID:-//EMSO - ECPv5.12.0//NONSGML v1.0//EN
CALSCALE:GREGORIAN
METHOD:PUBLISH
X-WR-CALNAME:EMSO
X-ORIGINAL-URL:https://emso.eu
X-WR-CALDESC:Events for EMSO
BEGIN:VTIMEZONE
TZID:Europe/Rome
BEGIN:DAYLIGHT
TZOFFSETFROM:+0100
TZOFFSETTO:+0200
TZNAME:CEST
DTSTART:20200329T010000
END:DAYLIGHT
BEGIN:STANDARD
TZOFFSETFROM:+0200
TZOFFSETTO:+0100
TZNAME:CET
DTSTART:20201025T010000
END:STANDARD
END:VTIMEZONE
BEGIN:VEVENT
DTSTART;VALUE=DATE:20200902
DTEND;VALUE=DATE:20200907
DTSTAMP:20260422T173958
CREATED:20200427T171726Z
LAST-MODIFIED:20200427T171726Z
UID:2536-1599004800-1599436799@emso.eu
SUMMARY:EuroScience Open Forum (ESOF) 2020
DESCRIPTION:The EuroScience Open Forum (ESOF) is a biennial\, pan-European\, general science conference dedicated to scientific research and innovation. Each conference aims to deliver stimulating content and lively debate around the latest advancements and discoveries in the sciences\, humanities and social sciences. \nInfo at https://www.esof.eu/en/home.html
URL:https://emso.eu/event/euroscience-open-forum-esof-2020/
LOCATION:Trieste\, Trieste\, Italy
ATTACH;FMTTYPE=image/png:https://emso.eu/wp-content/uploads/2020/04/logo__proesof_big_new.png
END:VEVENT
END:VCALENDAR