BEGIN:VCALENDAR
VERSION:2.0
PRODID:-//EMSO - ECPv5.12.0//NONSGML v1.0//EN
CALSCALE:GREGORIAN
METHOD:PUBLISH
X-WR-CALNAME:EMSO
X-ORIGINAL-URL:https://emso.eu
X-WR-CALDESC:Events for EMSO
BEGIN:VTIMEZONE
TZID:Europe/Rome
BEGIN:DAYLIGHT
TZOFFSETFROM:+0100
TZOFFSETTO:+0200
TZNAME:CEST
DTSTART:20200329T010000
END:DAYLIGHT
BEGIN:STANDARD
TZOFFSETFROM:+0200
TZOFFSETTO:+0100
TZNAME:CET
DTSTART:20201025T010000
END:STANDARD
END:VTIMEZONE
BEGIN:VEVENT
DTSTART;VALUE=DATE:20200916
DTEND;VALUE=DATE:20200919
DTSTAMP:20260422T173710
CREATED:20200904T084323Z
LAST-MODIFIED:20200904T090844Z
UID:2796-1600214400-1600473599@emso.eu
SUMMARY:virtual Workshop on Sustaining Ocean Observations
DESCRIPTION:There is wide recognition within the ocean observing community that enhanced coordination and partnership among federal agencies\, academic and research institutions\, private industry\, and other sectors could contribute to a stronger collective impact. \nThis event will bring together this diverse groups of stakeholders of ocean observations from multiple sectors. This workshop will explore how adoption of a collective impact organization framework could be undertaken\, to help overcome existing barriers to sustained ocean observations including governance and funding\, as well as consider processes by which messaging about the value of these observations can be improved.
URL:https://emso.eu/event/virtual-workshop-on-sustaining-ocean-observations/
END:VEVENT
END:VCALENDAR