BEGIN:VCALENDAR
VERSION:2.0
PRODID:-//EMSO - ECPv5.12.0//NONSGML v1.0//EN
CALSCALE:GREGORIAN
METHOD:PUBLISH
X-WR-CALNAME:EMSO
X-ORIGINAL-URL:https://emso.eu
X-WR-CALDESC:Events for EMSO
BEGIN:VTIMEZONE
TZID:Europe/Rome
BEGIN:DAYLIGHT
TZOFFSETFROM:+0100
TZOFFSETTO:+0200
TZNAME:CEST
DTSTART:20200329T010000
END:DAYLIGHT
BEGIN:STANDARD
TZOFFSETFROM:+0200
TZOFFSETTO:+0100
TZNAME:CET
DTSTART:20201025T010000
END:STANDARD
END:VTIMEZONE
BEGIN:VEVENT
DTSTART;VALUE=DATE:20200918
DTEND;VALUE=DATE:20201001
DTSTAMP:20260422T174318
CREATED:20200904T085354Z
LAST-MODIFIED:20200904T092211Z
UID:2798-1600387200-1601510399@emso.eu
SUMMARY:Evolving and Sustaining Ocean Best Practices Workshop
DESCRIPTION:The 4th Evolving and Sustaining Ocean Best Practices Workshop will be held online at various times between 17-30 September. \nAt the IOC Ocean Best Practices System (OBPS) Workshop IV\, ocean practitioners will collaboratively address best practices as well as recommendations for the OBPS to meet community needs for advanced method development in ocean observations and applications. The outcomes  will guide the next implementation phase of the OBPS. \nWe believe that your recommendations will help us serve your community and advance your efforts along the following key dimensions : \n\nData\, Information\, Knowledge\nEndorsement of methodological documents by communities\nConvergence of methods across scales (thematic\, local\, regional\, global)\nDevelopment paths – how does your region/community build best practices? What does your region need? How can the OBPS better support that?
URL:https://emso.eu/event/evolving-and-sustaining-ocean-best-practices-workshop/
ATTACH;FMTTYPE=image/png:https://emso.eu/wp-content/uploads/2020/09/OBPS-WS-2020-Registration-image.png
END:VEVENT
BEGIN:VEVENT
DTSTART;VALUE=DATE:20200922
DTEND;VALUE=DATE:20200925
DTSTAMP:20260422T174318
CREATED:20200730T144723Z
LAST-MODIFIED:20200730T145839Z
UID:2763-1600732800-1600991999@emso.eu
SUMMARY:European Research and Innovation Days
DESCRIPTION:The European Research and Innovation Days will take place on 22\, 23 and 24 September 2020 and it will be entirely online. \nThe European Research and Innovation Days brings together policymakers\, researchers\, entrepreneurs\, and citizens to debate and shape the future of research and innovation in Europe and beyond. This edition will feature three days of intensive policy co-designing\, thought-provoking panels\, and matchmaking opportunities. The interactive sessions will let participants provide input on how research and innovation policy and funding can help propel Europe’s recovery and pave the way to a green\, digital and resilient future. \nLink to the event webpage https://ec.europa.eu/info/research-and-innovation/events/upcoming-events/european-research-and-innovation-days_en \n 
URL:https://emso.eu/event/european-research-and-innovation-days/
END:VEVENT
END:VCALENDAR