BEGIN:VCALENDAR
VERSION:2.0
PRODID:-//EMSO - ECPv5.12.0//NONSGML v1.0//EN
CALSCALE:GREGORIAN
METHOD:PUBLISH
X-WR-CALNAME:EMSO
X-ORIGINAL-URL:https://emso.eu
X-WR-CALDESC:Events for EMSO
BEGIN:VTIMEZONE
TZID:Europe/Rome
BEGIN:DAYLIGHT
TZOFFSETFROM:+0100
TZOFFSETTO:+0200
TZNAME:CEST
DTSTART:20200329T010000
END:DAYLIGHT
BEGIN:STANDARD
TZOFFSETFROM:+0200
TZOFFSETTO:+0100
TZNAME:CET
DTSTART:20201025T010000
END:STANDARD
END:VTIMEZONE
BEGIN:VEVENT
DTSTART;VALUE=DATE:20201012
DTEND;VALUE=DATE:20201017
DTSTAMP:20260422T155052
CREATED:20200402T094056Z
LAST-MODIFIED:20200427T172411Z
UID:2493-1602460800-1602892799@emso.eu
SUMMARY:Sea Tech Week 2020
DESCRIPTION:Attracting almost one thousand participants to Brest every two years\, Sea Tech Week® is an opportunity to experience the Campus mondial de la mer community’s expertise first-hand and to forge collaborative international relations. A cross-disciplinary approach that also brings together research and business is a specific feature of the event which includes a conference of more than 30 science and technology sessions\, a professional trade fair with thirty exhibitors and over 200 B2B meetings. \nThe key theme for the 12th Sea Tech Week® will be ‘Observation: From seabed to space’. \nVisit the event website here.
URL:https://emso.eu/event/sea-tech-week/
LOCATION:Brest\, Brest\, France
ATTACH;FMTTYPE=image/png:https://emso.eu/wp-content/uploads/2020/04/395_Banniere_2020_STW_Site_960x540px_V2.png
END:VEVENT
BEGIN:VEVENT
DTSTART;VALUE=DATE:20201014
DTEND;VALUE=DATE:20201016
DTSTAMP:20260422T155052
CREATED:20200521T121358Z
LAST-MODIFIED:20200521T121358Z
UID:2562-1602633600-1602806399@emso.eu
SUMMARY:World Ocean Tech and Innovation Summit
DESCRIPTION:The Economist Events’ World Ocean Tech and Innovation Summit\, hosted by Canada’s Ocean Supercluster in collaboration with the Province of Nova Scotia and the Halifax Partnership\, will convene innovators\, business leaders\, thought leaders and investors to learn about and engage with the latest “blue economy” innovators and technologies\, and identify solutions that will form the roadmap to a sustainable\, thriving ocean economy. \nInfo at https://bit.ly/3gd4787
URL:https://emso.eu/event/world-ocean-tech-and-innovation-summit/
LOCATION:Halifax\, Halifax\, Canada
END:VEVENT
BEGIN:VEVENT
DTSTART;VALUE=DATE:20201014
DTEND;VALUE=DATE:20201016
DTSTAMP:20260422T155052
CREATED:20200521T124800Z
LAST-MODIFIED:20200521T124800Z
UID:2579-1602633600-1602806399@emso.eu
SUMMARY:9th EuroGOOS International Conference
DESCRIPTION:“Advances in Operational Oceanography: Expanding Europe’s ocean observing and forecasting capacity” \nThe EuroGOOS conference provides the opportunity to review the present ocean monitoring and forecasting capacities and their services\, and to identify new challenges and the underpinning science and technology priorities. The conference facilitates dialogue\, experience sharing and future planning with international partners and stakeholders\, towards a more coordinated response to global challenges and societal needs related to seas and the global ocean. \nInfo at https://eurogoos.ifremer.fr/ \nDeadline for abstract submission is 31st May.
URL:https://emso.eu/event/9th-eurogoos-international-conference/
LOCATION:Brest\, Brest\, France
ATTACH;FMTTYPE=image/jpeg:https://emso.eu/wp-content/uploads/2020/05/EuroGOOS-2020-Conference-Logo.jpg
END:VEVENT
END:VCALENDAR