BEGIN:VCALENDAR
VERSION:2.0
PRODID:-//EMSO - ECPv5.12.0//NONSGML v1.0//EN
CALSCALE:GREGORIAN
METHOD:PUBLISH
X-WR-CALNAME:EMSO
X-ORIGINAL-URL:https://emso.eu
X-WR-CALDESC:Events for EMSO
BEGIN:VTIMEZONE
TZID:Europe/Rome
BEGIN:DAYLIGHT
TZOFFSETFROM:+0100
TZOFFSETTO:+0200
TZNAME:CEST
DTSTART:20200329T010000
END:DAYLIGHT
BEGIN:STANDARD
TZOFFSETFROM:+0200
TZOFFSETTO:+0100
TZNAME:CET
DTSTART:20201025T010000
END:STANDARD
END:VTIMEZONE
BEGIN:VEVENT
DTSTART;VALUE=DATE:20201201
DTEND;VALUE=DATE:20201204
DTSTAMP:20260422T121836
CREATED:20200730T154510Z
LAST-MODIFIED:20200730T154510Z
UID:2778-1606780800-1607039999@emso.eu
SUMMARY:Oceanology International 2020
DESCRIPTION:Oceanology International is set to take place at ExCel London from 1-3 December 2020. \nIt will celebrate 50 years as the world’s largest ocean technology exhibition and conference. \n  \nVisit the dedicated webpage for the event’s detail.
URL:https://emso.eu/event/oceanology-international-2020-2/
LOCATION:ExCel London\, Royal Victoria Dock\, 1 Western Gateway\, Royal Docks\,\, London\, E16 1XL\, United Kingdom
END:VEVENT
BEGIN:VEVENT
DTSTART;VALUE=DATE:20201203
DTEND;VALUE=DATE:20201205
DTSTAMP:20260422T121836
CREATED:20200904T091230Z
LAST-MODIFIED:20200904T091230Z
UID:2805-1606953600-1607126399@emso.eu
SUMMARY:All-Atlantic Ocean Research Forum
DESCRIPTION:The 1st digital edition of the All-Atlantic Ocean Research Forum will take place fully online on 3 – 4 December 2020. The event\, hosted by the Department of Science and Innovation\, South Africa in cooperation with the Directorate-General for Research and Innovation of the European Commission\, will digitally bring together leading political and ocean leaders\, youth\, a host of renowned researchers\, entrepreneurs\, academics\, civil society and many more inspirational speakers!
URL:https://emso.eu/event/all-atlantic-ocean-research-forum/
ATTACH;FMTTYPE=image/jpeg:https://emso.eu/wp-content/uploads/2020/09/imagem_5f19551f66608.jpg
END:VEVENT
END:VCALENDAR