BEGIN:VCALENDAR
VERSION:2.0
PRODID:-//EMSO - ECPv5.12.0//NONSGML v1.0//EN
CALSCALE:GREGORIAN
METHOD:PUBLISH
X-WR-CALNAME:EMSO
X-ORIGINAL-URL:https://emso.eu
X-WR-CALDESC:Events for EMSO
BEGIN:VTIMEZONE
TZID:Europe/Rome
BEGIN:DAYLIGHT
TZOFFSETFROM:+0100
TZOFFSETTO:+0200
TZNAME:CEST
DTSTART:20210328T010000
END:DAYLIGHT
BEGIN:STANDARD
TZOFFSETFROM:+0200
TZOFFSETTO:+0100
TZNAME:CET
DTSTART:20211031T010000
END:STANDARD
END:VTIMEZONE
BEGIN:VEVENT
DTSTART;VALUE=DATE:20210323
DTEND;VALUE=DATE:20210324
DTSTAMP:20260422T074744
CREATED:20210308T100353Z
LAST-MODIFIED:20210415T070302Z
UID:3183-1616457600-1616543999@emso.eu
SUMMARY:Open Science for the Ocean: meet Blue-Cloud Demonstrators
DESCRIPTION:
URL:https://emso.eu/event/open-science-for-the-ocean-meet-blue-cloud-demonstrators/
ATTACH;FMTTYPE=image/jpeg:https://emso.eu/wp-content/uploads/2021/03/Blue-Cloud-Workshop.jpg
END:VEVENT
BEGIN:VEVENT
DTSTART;VALUE=DATE:20210323
DTEND;VALUE=DATE:20210325
DTSTAMP:20260422T074744
CREATED:20210308T100642Z
LAST-MODIFIED:20210415T070249Z
UID:3186-1616457600-1616630399@emso.eu
SUMMARY:75th ESFRI Forum Meeting - Online
DESCRIPTION:
URL:https://emso.eu/event/75th-esfri-forum-meeting-online/
END:VEVENT
END:VCALENDAR