BEGIN:VCALENDAR
VERSION:2.0
PRODID:-//EMSO - ECPv5.12.0//NONSGML v1.0//EN
CALSCALE:GREGORIAN
METHOD:PUBLISH
X-WR-CALNAME:EMSO
X-ORIGINAL-URL:https://emso.eu
X-WR-CALDESC:Events for EMSO
BEGIN:VTIMEZONE
TZID:Europe/Rome
BEGIN:DAYLIGHT
TZOFFSETFROM:+0100
TZOFFSETTO:+0200
TZNAME:CEST
DTSTART:20210328T010000
END:DAYLIGHT
BEGIN:STANDARD
TZOFFSETFROM:+0200
TZOFFSETTO:+0100
TZNAME:CET
DTSTART:20211031T010000
END:STANDARD
END:VTIMEZONE
BEGIN:VEVENT
DTSTART;VALUE=DATE:20210412
DTEND;VALUE=DATE:20210415
DTSTAMP:20260422T061302
CREATED:20210308T100949Z
LAST-MODIFIED:20210415T070237Z
UID:3188-1618185600-1618444799@emso.eu
SUMMARY:International Conference on Marine Data and Information Systems (IMDIS) 2021
DESCRIPTION:
URL:https://emso.eu/event/international-conference-on-marine-data-and-information-systems-imdis-2021/
END:VEVENT
END:VCALENDAR