BEGIN:VCALENDAR
VERSION:2.0
PRODID:-//EMSO - ECPv5.12.0//NONSGML v1.0//EN
CALSCALE:GREGORIAN
METHOD:PUBLISH
X-WR-CALNAME:EMSO
X-ORIGINAL-URL:https://emso.eu
X-WR-CALDESC:Events for EMSO
BEGIN:VTIMEZONE
TZID:Europe/Rome
BEGIN:DAYLIGHT
TZOFFSETFROM:+0100
TZOFFSETTO:+0200
TZNAME:CEST
DTSTART:20210328T010000
END:DAYLIGHT
BEGIN:STANDARD
TZOFFSETFROM:+0200
TZOFFSETTO:+0100
TZNAME:CET
DTSTART:20211031T010000
END:STANDARD
END:VTIMEZONE
BEGIN:VEVENT
DTSTART;VALUE=DATE:20210503
DTEND;VALUE=DATE:20210506
DTSTAMP:20260422T050332
CREATED:20210430T131932Z
LAST-MODIFIED:20210430T131932Z
UID:3296-1620000000-1620259199@emso.eu
SUMMARY:MARINE RIS SIDE EVENT | 9TH EUROGOOS CONFERENCE
DESCRIPTION:Wednesday 5 May\, 15:00 – 17:00 CEST\n  \nEleven European Research Infrastructures in the Marine domain\, among them EMSO ERIC\, are organizing a side event within the 9th EuroGOOS Conference. The aim is to bring together scientists and officers from the various marine Research Infrastructures (RIs) and marine research communities across Europe\, to discuss our future strategy under a collaborative plan within the landscape of the UN Decade of Ocean Science and the European Ocean Observing System (EOOS). \nIn line with the EOOS vision and the UN Decade of Ocean Science objectives\, we will discuss the next steps in sharing knowledge and expertise\, strengthening cooperation on-field activities and new technologies.  Integration of activities\, creation of robust interactive data interfaces\, promoting joint activities on marine research and services\, and raising public awareness on marine environmental issues are other topics that will be addressed during the event. \nThe session will be opened by George Petihakis who will introduce the Marine European Research Infrastructures (RIs) landscape. Then the session will continue with identifying the potential key elements within each RIs for collaborating in the development of the EOOS and what should be the actions that to be carried out in the coming years to better serve the EuroGOOS community. \n  \nDraft agenda EuroGOOS RIs event_v2 \nThe event is free of charge and open to everyone.\nRegister to the EuroGOOS Conference by the 5th of May.
URL:https://emso.eu/event/marine-ris-side-event-9th-eurogoos-conference/
ATTACH;FMTTYPE=image/png:https://emso.eu/wp-content/uploads/2021/04/9EuroGoosConference.png
END:VEVENT
END:VCALENDAR