BEGIN:VCALENDAR
VERSION:2.0
PRODID:-//EMSO - ECPv5.12.0//NONSGML v1.0//EN
CALSCALE:GREGORIAN
METHOD:PUBLISH
X-WR-CALNAME:EMSO
X-ORIGINAL-URL:https://emso.eu
X-WR-CALDESC:Events for EMSO
BEGIN:VTIMEZONE
TZID:Europe/Rome
BEGIN:DAYLIGHT
TZOFFSETFROM:+0100
TZOFFSETTO:+0200
TZNAME:CEST
DTSTART:20210328T010000
END:DAYLIGHT
BEGIN:STANDARD
TZOFFSETFROM:+0200
TZOFFSETTO:+0100
TZNAME:CET
DTSTART:20211031T010000
END:STANDARD
END:VTIMEZONE
BEGIN:VEVENT
DTSTART;VALUE=DATE:20210505
DTEND;VALUE=DATE:20210507
DTSTAMP:20260422T050007
CREATED:20201009T082008Z
LAST-MODIFIED:20201009T082318Z
UID:2851-1620172800-1620345599@emso.eu
SUMMARY:EuroGOOS Conference
DESCRIPTION:
URL:https://emso.eu/event/eurogoos-conference/
LOCATION:Brest\, Brest\, France
ATTACH;FMTTYPE=application/pdf:https://emso.eu/wp-content/uploads/2020/10/9th-EuroGOOS-Conference_5-6.05.2021.pdf
END:VEVENT
END:VCALENDAR