BEGIN:VCALENDAR
VERSION:2.0
PRODID:-//EMSO - ECPv5.12.0//NONSGML v1.0//EN
CALSCALE:GREGORIAN
METHOD:PUBLISH
X-WR-CALNAME:EMSO
X-ORIGINAL-URL:https://emso.eu
X-WR-CALDESC:Events for EMSO
BEGIN:VTIMEZONE
TZID:Europe/Rome
BEGIN:DAYLIGHT
TZOFFSETFROM:+0100
TZOFFSETTO:+0200
TZNAME:CEST
DTSTART:20210328T010000
END:DAYLIGHT
BEGIN:STANDARD
TZOFFSETFROM:+0200
TZOFFSETTO:+0100
TZNAME:CET
DTSTART:20211031T010000
END:STANDARD
END:VTIMEZONE
BEGIN:VEVENT
DTSTART;VALUE=DATE:20210517
DTEND;VALUE=DATE:20210522
DTSTAMP:20260422T045906
CREATED:20200521T123625Z
LAST-MODIFIED:20200521T123625Z
UID:2575-1621209600-1621641599@emso.eu
SUMMARY:52nd Liège Colloquium on Ocean Dynamics
DESCRIPTION:52nd Liège Colloquium on Ocean Dynamics – Towards understanding and assessing human impacts on coastal marine environments \nThe colloquium would like to gather an interdisciplinary community of scientists in order to obtain an overview of the progress in our capabilities to understand\, monitor and forecast the impact of human activities on coastal marine environments to guarantee a productive and healthy system as requested by the EU Marine Strategy Framework Directive and the UN Sustainable Development Goal 14. A special event gathering scientists\, stakeholders and industries is foreseen for reviewing current knowledge and gaps on offshore wind farms impacts on biodiversity and biogeochemistry. \nInfo at http://labos.ulg.ac.be/gher/home/colloquium/ \n 
URL:https://emso.eu/event/52nd-liege-colloquium-on-ocean-dynamics/
LOCATION:Liège\, Liège\, Belgium
END:VEVENT
END:VCALENDAR