BEGIN:VCALENDAR
VERSION:2.0
PRODID:-//EMSO - ECPv5.12.0//NONSGML v1.0//EN
CALSCALE:GREGORIAN
METHOD:PUBLISH
X-WR-CALNAME:EMSO
X-ORIGINAL-URL:https://emso.eu
X-WR-CALDESC:Events for EMSO
BEGIN:VTIMEZONE
TZID:Europe/Rome
BEGIN:DAYLIGHT
TZOFFSETFROM:+0100
TZOFFSETTO:+0200
TZNAME:CEST
DTSTART:20210328T010000
END:DAYLIGHT
BEGIN:STANDARD
TZOFFSETFROM:+0200
TZOFFSETTO:+0100
TZNAME:CET
DTSTART:20211031T010000
END:STANDARD
END:VTIMEZONE
BEGIN:VEVENT
DTSTART;VALUE=DATE:20210614
DTEND;VALUE=DATE:20210617
DTSTAMP:20260422T050044
CREATED:20210308T103422Z
LAST-MODIFIED:20210415T070202Z
UID:3193-1623628800-1623887999@emso.eu
SUMMARY:EMODnet Open Conference\, Connecting Open Data\, Delivering Marine Knowledge: A Vision for 2030
DESCRIPTION:
URL:https://emso.eu/event/emodnet-open-conference-connecting-open-data-delivering-marine-knowledge-a-vision-for-2030/
ATTACH;FMTTYPE=image/png:https://emso.eu/wp-content/uploads/2021/03/Banner_EMODnet.png
END:VEVENT
BEGIN:VEVENT
DTSTART;VALUE=DATE:20210616
DTEND;VALUE=DATE:20210619
DTSTAMP:20260422T050044
CREATED:20201009T083418Z
LAST-MODIFIED:20201009T083418Z
UID:2863-1623801600-1624060799@emso.eu
SUMMARY:MarTech - IX International Workhop on  Marine Technology
DESCRIPTION:
URL:https://emso.eu/event/martech-ix-international-workhop-on-marine-technology/
LOCATION:Vigo\, Galicia\, Spain
ATTACH;FMTTYPE=image/jpeg:https://emso.eu/wp-content/uploads/2020/10/martech.jpg
END:VEVENT
END:VCALENDAR