BEGIN:VCALENDAR
VERSION:2.0
PRODID:-//EMSO - ECPv5.12.0//NONSGML v1.0//EN
CALSCALE:GREGORIAN
METHOD:PUBLISH
X-WR-CALNAME:EMSO
X-ORIGINAL-URL:https://emso.eu
X-WR-CALDESC:Events for EMSO
BEGIN:VTIMEZONE
TZID:Europe/Rome
BEGIN:DAYLIGHT
TZOFFSETFROM:+0100
TZOFFSETTO:+0200
TZNAME:CEST
DTSTART:20210328T010000
END:DAYLIGHT
BEGIN:STANDARD
TZOFFSETFROM:+0200
TZOFFSETTO:+0100
TZNAME:CET
DTSTART:20211031T010000
END:STANDARD
END:VTIMEZONE
BEGIN:VEVENT
DTSTART;VALUE=DATE:20210928
DTEND;VALUE=DATE:20211002
DTSTAMP:20260421T212821
CREATED:20201210T074017Z
LAST-MODIFIED:20201210T074017Z
UID:2936-1632787200-1633132799@emso.eu
SUMMARY:Big Science Business Forum 2021
DESCRIPTION:BSBF 2021 is a business oriented congress which congregates all the European Research Infrastructures\, focused on technology and with the aim to be the main meeting point between Research Infrastructures and industry. \nThis will be the second edition of the event after the success of the previous edition in Copenhagen\, where more than 1\,000 participants from more than 500 organisations and 29 countries gathered together to discuss the future prospects of the Big Science Market.
URL:https://emso.eu/event/big-science-business-forum-2021/
LOCATION:Granada Congress Centre\, Paseo del Violón s/n\, Granada\, Granada\, 18006\, Spain
ATTACH;FMTTYPE=image/png:https://emso.eu/wp-content/uploads/2020/12/bsbf2021.png
END:VEVENT
END:VCALENDAR