BEGIN:VCALENDAR
VERSION:2.0
PRODID:-//EMSO - ECPv5.12.0//NONSGML v1.0//EN
CALSCALE:GREGORIAN
METHOD:PUBLISH
X-WR-CALNAME:EMSO
X-ORIGINAL-URL:https://emso.eu
X-WR-CALDESC:Events for EMSO
BEGIN:VTIMEZONE
TZID:Europe/Rome
BEGIN:DAYLIGHT
TZOFFSETFROM:+0100
TZOFFSETTO:+0200
TZNAME:CEST
DTSTART:20220327T010000
END:DAYLIGHT
BEGIN:STANDARD
TZOFFSETFROM:+0200
TZOFFSETTO:+0100
TZNAME:CET
DTSTART:20221030T010000
END:STANDARD
END:VTIMEZONE
BEGIN:VEVENT
DTSTART;VALUE=DATE:20220322
DTEND;VALUE=DATE:20220325
DTSTAMP:20260421T132414
CREATED:20220208T122521Z
LAST-MODIFIED:20220208T122521Z
UID:3545-1647907200-1648166399@emso.eu
SUMMARY:EOOS Technology Forum 2022 Workshop
DESCRIPTION:EOOS Technology Forum 2022\nThinking ahead: The technology of the science we will need for the ocean we want will take place virtually on the 22-24 March 2022 (14:00-17:30 UTC).
URL:https://emso.eu/event/eoos-technology-forum-2022-workshop/
END:VEVENT
END:VCALENDAR